BEGIN:VCALENDAR
VERSION:2.0
PRODID:-//eventon.com NONSGML v1.0//EN
BEGIN:VEVENT
UID:69e7361960b95
DTSTAMP:20260421T043225
DTSTART:20191030T120000Z
DTEND:20191030T140000Z
LOCATION:Eaton 
SUMMARY:Business Meeting - Q3 2019
DESCRIPTION: Participation is restricted to the NEOCC board\,  committee co-chairs\,  and leaders of member organizations.  To be added to the list\,  please email jeff@brancatosolutions.com. NEOCC business meetings take place under the terms of NEOCC confidentiality agreement.
END:VEVENT
END:VCALENDAR